BEGIN:VCALENDAR
VERSION:2.0
PRODID:-//Swiss Chamber Music Festival//NONSGML kigkonsult.se iCalcreator 2
 .16.12//
METHOD:PUBLISH
X-MS-OLK-FORCEINSPECTOROPEN:TRUE
BEGIN:VEVENT
UID:20260424T051831CEST-03585NUNvV@Swiss Chamber Music Festival
DTSTAMP:20260424T031831Z
DESCRIPTION:\n\n\nWorkshop mit Tobias Reber\, Komponist\n\nIn diesem Kurs b
 efassen wir uns mit dem Hören als aktiver Tätigkeit und lernbarer Fähigkei
 t. Mittels spielerischen Übungen\, einem Hörspaziergang\, einem Probenbesu
 ch\, Inputs und Diskussionen schärfen wir unser Bewusstsein für einen vern
 achlässigten Sinn.\n\n\n\n
DTSTART:20180915T140000
DTEND:20180915T170000
LOCATION:Kirchgemeindehaus Kandersteg
ORGANIZER:MAILTO:Swiss Chamber Music Festival <noreply@swisschambermusicfes
 tival.ch>
SUMMARY:«Kann man Hören lernen?»
END:VEVENT
END:VCALENDAR
