BEGIN:VCALENDAR
VERSION:2.0
PRODID:-//Swiss Chamber Music Festival//NONSGML kigkonsult.se iCalcreator 2
 .16.12//
METHOD:PUBLISH
X-MS-OLK-FORCEINSPECTOROPEN:TRUE
BEGIN:VEVENT
UID:20260421T115746CEST-6860VuBDnH@Swiss Chamber Music Festival
DTSTAMP:20260421T095746Z
DESCRIPTION:\n\n \n\nLorenzo Nguyen Klavier\nEdoardo Grieco Violine \nFranc
 esco Massimino Cello \n\n\n\n\n	\n		\n			\n			\n				\n					\n						\n						Ludwig van Beethoven (1770-18
 27)\n						\n						\n						Trio D-Dur op. 70 Nr. 1\n						\n					\n					\n						\n						Rahel Zimmermann (*1988) \n						\n						\n						U
 raufführung\n						\n					\n					\n						\n						Franz Schubert (1797-1828)\n						\n						\n						Klaviertrio B-Dur op.
  99\n						\n					\n				\n			\n			\n		\n	\n\n\n\n\n Programmänderungen vorbehalten. \n\n\n\n \n\nD
 as Trio Chagall wurde 2013 gegründet. Damals studierten die drei italienis
 chen Musiker noch am Konservatorium Giuseppe Verdi in Turin. Momentan bild
 en sie sich an der Hochschule für Musik in Basel (FHNW) weiter. Das Ensemb
 le hat nicht nur bei der Orpheus Swiss Chamber Music Competition den zweit
 en Platz belegt\, sondern auch bereits mehrere Erfolge an weiteren interna
 tionalen Wettbewerben verbucht. Der Name «Trio Chagall» ist eine Hommage a
 n den russischfranzösischen Maler Marc Chagall (1887-1985). Der Künstler h
 atte eine enge Beziehung zur Musik\, was schon nur seine vielen musikalisc
 hen Motive in seinen Gemälden zeigen. Deshalb war er für die drei Musiker 
 eine wichtige Inspirationsquelle\, wie sie auf ihrer Website schreiben: Be
 sonders bewundernswert sei Chagalls «Verbindung zur Musik und seine Ausdru
 ckskraft bei der Verwendung von Farben». Farben sind dem Trio Chagall auch
  bei der Interpretation von Musik wichtig.\n\n\n\n\n\n\n
DTSTART:20230909T180000
DTEND:20230909T193000
LOCATION:Ref. Kirche Kandersteg
ORGANIZER:MAILTO:Swiss Chamber Music Festival <noreply@swisschambermusicfes
 tival.ch>
SUMMARY:Preisträgerkonzert 2. Preis: Trio Chagall
END:VEVENT
END:VCALENDAR
