BEGIN:VCALENDAR
VERSION:2.0
PRODID:-//Swiss Chamber Music Festival//NONSGML kigkonsult.se iCalcreator 2
 .16.12//
METHOD:PUBLISH
X-MS-OLK-FORCEINSPECTOROPEN:TRUE
BEGIN:VEVENT
UID:20260419T161519CEST-4938uzFHKG@Swiss Chamber Music Festival
DTSTAMP:20260419T141519Z
DESCRIPTION:\n\n \n\nJaume Angelès Violine\nGuillermo Ortega Violoncello\nP
 aula Belzunegui Klavier\n\n\n\n	\n		\n			Edvard Grieg (1843-1907)\n			Klaviertrio c
 -Moll\, Andante con moto\n		\n		\n			Joaquín Turina (1882-1949)\n			Klaviertrio Nr. 
 2 op. 76\n		\n		\n			Sándor Veress (1907-1992)\n			Trio «Tre quadri» für Klavier\, V
 ioline und Violoncello\n		\n		\n			Claude Debussy (1862-1918)\n			Klaviertrio G-Dur
 \n		\n	\n\n\n\n\n\nProgrammänderungen vorbehalten. \n\n\n\n\n\n\n \n\nJaume A
 ngelès wird Ihnen vielleicht bekannt vorkommen: 2022 spielte er als Teil d
 es Atenea Quartet als Erstplatzierter der Orpheus-Competition 2021 am Swis
 s Chamber Music\nFestival. Dieses Jahr ist er mit seinem Trio ausgezeichne
 t worden – und wird statt der zweiten die einzige Geige spielen. Das Helix
  Piano Trio besteht aus aktiven und ehemaligen Studierenden der Hochschule
  für Musik Basel (FHNW)\, alle drei Musiker:innen stammen aus Spanien: Jau
 me aus Barcelona\, Guillermo aus Madrid und Paula aus Pamplona. So bringen
  sie auch ein Stück aus ihrer gemeinsamen Heimat mit nach Adelboden – das 
 Klaviertrio von Joaquín Turina. Der 1882 in Sevilla geborene Komponist bau
 te immer wieder Elemente der andalusischen Folklore in seine Werke mit ein
 . Hören Sie sie heraus?\n\n\n\n
DTSTART:20230911T200000
DTEND:20230911T213000
LOCATION:Ideenwerkstatt Künzi+Knutti AG Adelboden
ORGANIZER:MAILTO:Swiss Chamber Music Festival <noreply@swisschambermusicfes
 tival.ch>
SUMMARY:Preisträgerkonzert: Helix Piano Trio
END:VEVENT
END:VCALENDAR
