BEGIN:VCALENDAR
VERSION:2.0
PRODID:-//Swiss Chamber Music Festival//NONSGML kigkonsult.se iCalcreator 2
 .16.12//
METHOD:PUBLISH
X-MS-OLK-FORCEINSPECTOROPEN:TRUE
BEGIN:VEVENT
UID:20260421T114841CEST-66506Phseg@Swiss Chamber Music Festival
DTSTAMP:20260421T094841Z
DESCRIPTION:\n\n \n\nJose Nisa Velasco Sopransaxophon\nAna Parejo Belando A
 ltsaxophon\nJocelyn Erard Tenorsaxophon\nValentin Arrayet Baritonsaxophon
 \n\n\n\n	\n		\n			Henri Pousseur (1929-2009)\n			Vue sur les jardins interdits\n		\n		
 \n			Juan de la Encina (1468-1529)\n			Ay\, Triste\, Que vengo\n		\n		\n			Alexander Gl
 azunov (1865-1936) \n			Quatuor de saxophone op. 109\n		\n		\n			Pierre Attaingnant 
 (ca. 1494-1551)\n			Quand je bois du vin clairet\n		\n		\n			Jürg Frey (*1953)\n			Exte
 nded circular music No 7\n		\n		\n			Johann Sebastian Bach (1685-1750)\n			Chorals\n
 		\n	\n\n\n\n\n\nProgrammänderungen vorbehalten. \n\n\n\n\n\n\n \n\nDer «älte
 ste» Komponist dieses Konzertabends kam knapp 500 Jahre früher auf die Wel
 t als der «jüngste»: Da ist der Komponist\, Poet und Dramatiker Juan de la
  Encina\, geboren 1468 im nordwestspanischen Fermoselle. Und da ist der Sc
 hweizer Klarinettist und Komponist Jürg Frey\, der 1953 das Licht der Welt
  erblickt hat. Das Quatuor Amapola – die Musiker:innen studieren zurzeit a
 n der Haute école de musique Génève (HEM) – präsentiert nicht nur zeitlich
  eine grosse Abwechslung\, sondern auch stilistisch. Und Bach\, gespielt v
 on vier Saxophonen\, hört man auch nicht alle Tage.\n\n\n\n
DTSTART:20230914T200000
DTEND:20230914T213000
LOCATION:BLS Erhaltungszentrum Frutigen
ORGANIZER:MAILTO:Swiss Chamber Music Festival <noreply@swisschambermusicfes
 tival.ch>
SUMMARY:Preisträgerkonzert: Quatuor Amapola
END:VEVENT
END:VCALENDAR
